BEGIN:VCALENDAR
VERSION:2.0
PRODID:Events Booking
BEGIN:VEVENT
UID:69eb38dc2da89
SUMMARY:Besichtigungstour der Primarschule 18. Dezember 2024 um 10:00h
DESCRIPTION:Besichtigung des Primargebäudes der ESRM.
 School Tour of the
  Primary Building.
  
LOCATION:Theodor-Heuss-Straße 65\, 61118 Bad Vilbel
DTSTART:20241218T090000Z
DTEND:20241218T100000Z
DTSTAMP:20260424T113316Z
ORGANIZER;CN=ESRM Booking:MAILTO:noreply@es-rm.eu
GEO:50.211596;8.746458
X-APPLE-STRUCTURED-LOCATION;VALUE=URI;X-ADDRESS=Theodor-Heuss-Straße 65\, 
 61118 Bad Vilbel;X-APPLE-RADIUS=72;X-TITLE=Europäische Schule RheinMain:5
 0.211596;8.746458
END:VEVENT
END:VCALENDAR