BEGIN:VCALENDAR
VERSION:2.0
PRODID:Events Booking
BEGIN:VEVENT
UID:69e9fc265372b
SUMMARY:Besichtigungstour der Sekundarschule 15. Mai 2026 um 10:00h
DESCRIPTION:Besichtigung des Sekundargebäudes der ESRM.
 School Tour of t
 he Secondary Building.
  
DTSTART:20260515T080000Z
DTEND:20260515T090000Z
DTSTAMP:20260423T130158Z
ORGANIZER;CN=ESRM Booking:MAILTO:noreply@es-rm.eu
END:VEVENT
END:VCALENDAR