BEGIN:VCALENDAR
VERSION:2.0
PRODID:Events Booking
BEGIN:VEVENT
UID:69e9da1a5a89f
SUMMARY:Besichtigungstour der Sekundarschule 25. März 2026 um 10:00h
DESCRIPTION:Besichtigung des Sekundargebäudes der ESRM.
 School Tour of t
 he Secondary Building.
  
DTSTART:20260325T090000Z
DTEND:20260325T100000Z
DTSTAMP:20260423T103642Z
ORGANIZER;CN=ESRM Booking:MAILTO:noreply@es-rm.eu
END:VEVENT
END:VCALENDAR